BEGIN:VCALENDAR
VERSION:2.0
PRODID:-//Back Creek Golf Club - ECPv6.15.11//NONSGML v1.0//EN
CALSCALE:GREGORIAN
METHOD:PUBLISH
X-WR-CALNAME:Back Creek Golf Club
X-ORIGINAL-URL:https://backcreekgc.com
X-WR-CALDESC:Events for Back Creek Golf Club
REFRESH-INTERVAL;VALUE=DURATION:PT1H
X-Robots-Tag:noindex
X-PUBLISHED-TTL:PT1H
BEGIN:VTIMEZONE
TZID:UTC
BEGIN:STANDARD
TZOFFSETFROM:+0000
TZOFFSETTO:+0000
TZNAME:UTC
DTSTART:20240101T000000
END:STANDARD
END:VTIMEZONE
BEGIN:VEVENT
DTSTART;TZID=UTC:20250620T170000
DTEND;TZID=UTC:20250620T200000
DTSTAMP:20260424T113819
CREATED:20250619T121402Z
LAST-MODIFIED:20250619T122235Z
UID:10000078-1750438800-1750449600@backcreekgc.com
SUMMARY:Weekend Specials
DESCRIPTION:Elevate your weekend with handcrafted specials that change weekly\, only at Seven Tap-Tavern. From unique entrées to featured drinks\, there’s always something new to discover. Starting at 5pm.
URL:https://backcreekgc.com/event/weekend-specials/2025-06-20/
ATTACH;FMTTYPE=image/jpeg:https://backcreekgc.com/wp-content/uploads/2025/06/5-copy.jpg
END:VEVENT
BEGIN:VEVENT
DTSTART;TZID=UTC:20250621T170000
DTEND;TZID=UTC:20250621T200000
DTSTAMP:20260424T113819
CREATED:20250619T121402Z
LAST-MODIFIED:20250619T122235Z
UID:10000079-1750525200-1750536000@backcreekgc.com
SUMMARY:Weekend Specials
DESCRIPTION:Elevate your weekend with handcrafted specials that change weekly\, only at Seven Tap-Tavern. From unique entrées to featured drinks\, there’s always something new to discover. Starting at 5pm.
URL:https://backcreekgc.com/event/weekend-specials/2025-06-21/
ATTACH;FMTTYPE=image/jpeg:https://backcreekgc.com/wp-content/uploads/2025/06/5-copy.jpg
END:VEVENT
BEGIN:VEVENT
DTSTART;TZID=UTC:20250623T170000
DTEND;TZID=UTC:20250623T200000
DTSTAMP:20260424T113819
CREATED:20250619T120954Z
LAST-MODIFIED:20250619T122346Z
UID:10000100-1750698000-1750708800@backcreekgc.com
SUMMARY:Burger Night
DESCRIPTION:Treat your taste buds to Burger Night at Seven Tap-Tavern\, every Monday night starting at 5pm!
URL:https://backcreekgc.com/event/burger-night-2/2025-06-23/
ATTACH;FMTTYPE=image/jpeg:https://backcreekgc.com/wp-content/uploads/2025/06/1-copy.jpg
END:VEVENT
BEGIN:VEVENT
DTSTART;TZID=UTC:20250625T110000
DTEND;TZID=UTC:20250625T200000
DTSTAMP:20260424T113819
CREATED:20250619T121140Z
LAST-MODIFIED:20250619T121140Z
UID:10000058-1750849200-1750881600@backcreekgc.com
SUMMARY:Wing Wednesday
DESCRIPTION:Wednesdays just got hotter — wings are only $1 all day at Seven Tap-Tavern! Bring your appetite and don’t miss out! 🍗🔥
URL:https://backcreekgc.com/event/wing-wednesday/2025-06-25/
ATTACH;FMTTYPE=image/jpeg:https://backcreekgc.com/wp-content/uploads/2025/06/3.jpg
END:VEVENT
BEGIN:VEVENT
DTSTART;TZID=UTC:20250625T180000
DTEND;TZID=UTC:20250625T210000
DTSTAMP:20260424T113819
CREATED:20250619T121311Z
LAST-MODIFIED:20250619T121311Z
UID:10000068-1750874400-1750885200@backcreekgc.com
SUMMARY:Trivia Night
DESCRIPTION:Think you’ve got what it takes to rule the leaderboard? Join us every Wednesday from 6–9 PM for Trivia Night at Seven Tap-Tavern. Grab your team\, get a drink\, and let the games begin!
URL:https://backcreekgc.com/event/trivia-night-6/2025-06-25/
ATTACH;FMTTYPE=image/jpeg:https://backcreekgc.com/wp-content/uploads/2025/06/4.jpg
END:VEVENT
BEGIN:VEVENT
DTSTART;TZID=UTC:20250627T170000
DTEND;TZID=UTC:20250627T200000
DTSTAMP:20260424T113819
CREATED:20250619T121402Z
LAST-MODIFIED:20250619T122235Z
UID:10000080-1751043600-1751054400@backcreekgc.com
SUMMARY:Weekend Specials
DESCRIPTION:Elevate your weekend with handcrafted specials that change weekly\, only at Seven Tap-Tavern. From unique entrées to featured drinks\, there’s always something new to discover. Starting at 5pm.
URL:https://backcreekgc.com/event/weekend-specials/2025-06-27/
ATTACH;FMTTYPE=image/jpeg:https://backcreekgc.com/wp-content/uploads/2025/06/5-copy.jpg
END:VEVENT
BEGIN:VEVENT
DTSTART;TZID=UTC:20250628T170000
DTEND;TZID=UTC:20250628T200000
DTSTAMP:20260424T113819
CREATED:20250619T121402Z
LAST-MODIFIED:20250619T122235Z
UID:10000081-1751130000-1751140800@backcreekgc.com
SUMMARY:Weekend Specials
DESCRIPTION:Elevate your weekend with handcrafted specials that change weekly\, only at Seven Tap-Tavern. From unique entrées to featured drinks\, there’s always something new to discover. Starting at 5pm.
URL:https://backcreekgc.com/event/weekend-specials/2025-06-28/
ATTACH;FMTTYPE=image/jpeg:https://backcreekgc.com/wp-content/uploads/2025/06/5-copy.jpg
END:VEVENT
BEGIN:VEVENT
DTSTART;TZID=UTC:20250630T170000
DTEND;TZID=UTC:20250630T200000
DTSTAMP:20260424T113819
CREATED:20250619T120954Z
LAST-MODIFIED:20250619T122346Z
UID:10000101-1751302800-1751313600@backcreekgc.com
SUMMARY:Burger Night
DESCRIPTION:Treat your taste buds to Burger Night at Seven Tap-Tavern\, every Monday night starting at 5pm!
URL:https://backcreekgc.com/event/burger-night-2/2025-06-30/
ATTACH;FMTTYPE=image/jpeg:https://backcreekgc.com/wp-content/uploads/2025/06/1-copy.jpg
END:VEVENT
END:VCALENDAR