BEGIN:VCALENDAR
VERSION:2.0
PRODID:-//Back Creek Golf Club - ECPv6.15.11//NONSGML v1.0//EN
CALSCALE:GREGORIAN
METHOD:PUBLISH
X-ORIGINAL-URL:https://backcreekgc.com
X-WR-CALDESC:Events for Back Creek Golf Club
REFRESH-INTERVAL;VALUE=DURATION:PT1H
X-Robots-Tag:noindex
X-PUBLISHED-TTL:PT1H
BEGIN:VTIMEZONE
TZID:UTC
BEGIN:STANDARD
TZOFFSETFROM:+0000
TZOFFSETTO:+0000
TZNAME:UTC
DTSTART:20240101T000000
END:STANDARD
END:VTIMEZONE
BEGIN:VEVENT
DTSTART;VALUE=DATE:20250314
DTEND;VALUE=DATE:20250318
DTSTAMP:20260420T165653
CREATED:20250312T174127Z
LAST-MODIFIED:20250312T174127Z
UID:10000023-1741910400-1742255999@backcreekgc.com
SUMMARY:St. Patrick's Day Weekend
DESCRIPTION:Come celebrate St. Patrick’s Day Weekend at Back Creek!
URL:https://backcreekgc.com/event/st-patricks-day-weekend/
ATTACH;FMTTYPE=image/jpeg:https://backcreekgc.com/wp-content/uploads/2025/03/bc-st-paddys.jpg
END:VEVENT
BEGIN:VEVENT
DTSTART;TZID=UTC:20250317T120000
DTEND;TZID=UTC:20250317T170000
DTSTAMP:20260420T165653
CREATED:20250217T174907Z
LAST-MODIFIED:20250217T174907Z
UID:10000019-1742212800-1742230800@backcreekgc.com
SUMMARY:Shamrock Scramble
DESCRIPTION:Our first golf event of 2025 is here! Sign up NOW for our Shamrock Scramble on March 17th! \nCLICK HERE TO REGISTER
URL:https://backcreekgc.com/event/shamrock-scramble/
CATEGORIES:Public
ATTACH;FMTTYPE=image/jpeg:https://backcreekgc.com/wp-content/uploads/2025/02/bc-shamrock-calendar-1.jpg
END:VEVENT
BEGIN:VEVENT
DTSTART;TZID=UTC:20250326T180000
DTEND;TZID=UTC:20250326T200000
DTSTAMP:20260420T165653
CREATED:20250312T173830Z
LAST-MODIFIED:20250312T173830Z
UID:10000021-1743012000-1743019200@backcreekgc.com
SUMMARY:Bingo Night
DESCRIPTION:Join us for Bingo Night inside The Grille at 6 PM!
URL:https://backcreekgc.com/event/bingo-night-3/
CATEGORIES:Public
ATTACH;FMTTYPE=image/jpeg:https://backcreekgc.com/wp-content/uploads/2025/03/bingo-night-2.jpg
END:VEVENT
BEGIN:VEVENT
DTSTART;TZID=UTC:20250327T160000
DTEND;TZID=UTC:20250327T200000
DTSTAMP:20260420T165653
CREATED:20250326T134225Z
LAST-MODIFIED:20250326T134225Z
UID:10000024-1743091200-1743105600@backcreekgc.com
SUMMARY:Phillies Opening Day
DESCRIPTION:Join us at The Grille and celebrate Phillies Opening Day!
URL:https://backcreekgc.com/event/phillies-opening-day/
ATTACH;FMTTYPE=image/jpeg:https://backcreekgc.com/wp-content/uploads/2025/03/phillies-calendar.jpg
END:VEVENT
END:VCALENDAR