BEGIN:VCALENDAR
VERSION:2.0
PRODID:-//Back Creek Golf Club - ECPv6.15.11//NONSGML v1.0//EN
CALSCALE:GREGORIAN
METHOD:PUBLISH
X-ORIGINAL-URL:https://backcreekgc.com
X-WR-CALDESC:Events for Back Creek Golf Club
REFRESH-INTERVAL;VALUE=DURATION:PT1H
X-Robots-Tag:noindex
X-PUBLISHED-TTL:PT1H
BEGIN:VTIMEZONE
TZID:UTC
BEGIN:STANDARD
TZOFFSETFROM:+0000
TZOFFSETTO:+0000
TZNAME:UTC
DTSTART:20230101T000000
END:STANDARD
END:VTIMEZONE
BEGIN:VEVENT
DTSTART;TZID=UTC:20241113T190000
DTEND;TZID=UTC:20241113T210000
DTSTAMP:20260425T032059
CREATED:20241024T143702Z
LAST-MODIFIED:20241024T143702Z
UID:10000001-1731524400-1731531600@backcreekgc.com
SUMMARY:Line Dancing
DESCRIPTION:Put on your dancing shoes and join us for Line Dancing with Rob on Wednesday\, November 13th from 7 PM to 9 PM! Whether you’re a beginner or a seasoned pro\, come enjoy great moves and tasty food and drink specials! \nReservations Recommended 302-378-6499
URL:https://backcreekgc.com/event/line-dancing/
CATEGORIES:Public
ATTACH;FMTTYPE=image/jpeg:https://backcreekgc.com/wp-content/uploads/2024/10/Line-Dancing-Graphic-Event-Calendar-Back-Creek.jpg
END:VEVENT
END:VCALENDAR